BEGIN:VCALENDAR
VERSION:2.0
PRODID:-//uwlamoille.org//NONSGML kigkonsult.se iCalcreator 2.30.10//
CALSCALE:GREGORIAN
METHOD:PUBLISH
UID:6cef3fcd-d701-4b1c-a7fe-0c0782939359
X-WR-CALDESC:
X-WR-RELCALID:0ea85a38265bd45ae9f0fd55c130ae33
X-WR-TIMEZONE:America/New_York
BEGIN:VTIMEZONE
TZID:America/New_York
BEGIN:STANDARD
TZNAME:EST
DTSTART:20241103T020000
TZOFFSETFROM:-0400
TZOFFSETTO:-0500
RDATE:20251102T020000
END:STANDARD
BEGIN:DAYLIGHT
TZNAME:EDT
DTSTART:20250309T020000
TZOFFSETFROM:-0500
TZOFFSETTO:-0400
RDATE:20260308T020000
END:DAYLIGHT
END:VTIMEZONE
BEGIN:VEVENT
UID:24c1a1b0-415c-4549-93a5-dfedccc10c54
DTSTAMP:20260423T182153Z
DESCRIPTION:
DTSTART;TZID=America/New_York:20250417T200000
DTEND;TZID=America/New_York:20250417T230000
LOCATION:337 College Hill Rd\, Johnson\, VT 05656 US
SUMMARY:VTSU's Casino Night Disco
END:VEVENT
END:VCALENDAR
